BEGIN:VCALENDAR
VERSION:2.0
PRODID:-//MFM WEST/PACIFIC ZONAL HQ USA - ECPv6.15.11//NONSGML v1.0//EN
CALSCALE:GREGORIAN
METHOD:PUBLISH
X-ORIGINAL-URL:https://mfmca.org
X-WR-CALDESC:Events for MFM WEST/PACIFIC ZONAL HQ USA
REFRESH-INTERVAL;VALUE=DURATION:PT1H
X-Robots-Tag:noindex
X-PUBLISHED-TTL:PT1H
BEGIN:VTIMEZONE
TZID:UTC
BEGIN:STANDARD
TZOFFSETFROM:+0000
TZOFFSETTO:+0000
TZNAME:UTC
DTSTART:20170101T000000
END:STANDARD
END:VTIMEZONE
BEGIN:VEVENT
DTSTART;TZID=UTC:20231013T150000
DTEND;TZID=UTC:20231015T020000
DTSTAMP:20260421T023954
CREATED:20230930T160757Z
LAST-MODIFIED:20230930T160758Z
UID:3836-1697209200-1697335200@mfmca.org
SUMMARY:3-Day Weekend Deliverance- Disgracing Stubborn Problems
DESCRIPTION:Disgracing Stubborn Problems
URL:https://mfmca.org/event/3-day-weekend-deliverance-disgracing-stubborn-problems/
LOCATION:Mfm West Pacific Zonal HQ Church\, 27955 Mission Blvd\, Hayward\, CA\, 94544\, United States
CATEGORIES:Deliverance,Event,General
ATTACH;FMTTYPE=image/jpeg:https://mfmca.org/wp-content/uploads/2023/09/Untitled-design-1.jpg
ORGANIZER;CN="MFM West Pacific Zone":MAILTO:mfmwpzhqusa@gmail.com
END:VEVENT
BEGIN:VEVENT
DTSTART;TZID=UTC:20230609T150000
DTEND;TZID=UTC:20230611T083000
DTSTAMP:20260421T023954
CREATED:20230516T212817Z
LAST-MODIFIED:20230516T212818Z
UID:3702-1686322800-1686472200@mfmca.org
SUMMARY:3-Day Weekend Deliverance
DESCRIPTION:Deliverance from all round battles.
URL:https://mfmca.org/event/3-day-weekend-deliverance/
LOCATION:Mfm West Pacific Zonal HQ Church\, 27955 Mission Blvd\, Hayward\, CA\, 94544\, United States
CATEGORIES:Deliverance,General
ORGANIZER;CN="MFM West Pacific Zone":MAILTO:mfmwpzhqusa@gmail.com
END:VEVENT
BEGIN:VEVENT
DTSTART;TZID=UTC:20220318T090000
DTEND;TZID=UTC:20220320T130000
DTSTAMP:20260421T023954
CREATED:20220203T134323Z
LAST-MODIFIED:20220203T134323Z
UID:3059-1647594000-1647781200@mfmca.org
SUMMARY:QUARTERLY WEEKEND DELIVERANCE
DESCRIPTION:
URL:https://mfmca.org/event/quarterly-weekend-deliverance/
LOCATION:Mfm West Pacific Zonal HQ Church\, 27955 Mission Blvd\, Hayward\, CA\, 94544\, United States
CATEGORIES:Deliverance
ATTACH;FMTTYPE=image/jpeg:https://mfmca.org/wp-content/uploads/2022/02/QRTLEY-WKEND-DEL.jpg
ORGANIZER;CN="MFM West Pacific Zone":MAILTO:mfmwpzhqusa@gmail.com
END:VEVENT
BEGIN:VEVENT
DTSTART;TZID=UTC:20200918T180000
DTEND;TZID=UTC:20200920T090000
DTSTAMP:20260421T023954
CREATED:20200830T215338Z
LAST-MODIFIED:20200830T215339Z
UID:2325-1600452000-1600592400@mfmca.org
SUMMARY:DELIVERANCE FROM CAPTIVITY
DESCRIPTION:
URL:https://mfmca.org/event/deliverance-from-captivity/
LOCATION:CA
CATEGORIES:Deliverance,Event
ATTACH;FMTTYPE=image/jpeg:https://mfmca.org/wp-content/uploads/2020/08/delfrmcap.jpg
ORGANIZER;CN="MFM West Pacific Zone":MAILTO:mfmwpzhqusa@gmail.com
END:VEVENT
BEGIN:VEVENT
DTSTART;TZID=UTC:20200612T180000
DTEND;TZID=UTC:20200614T100000
DTSTAMP:20260421T023954
CREATED:20200604T114322Z
LAST-MODIFIED:20200604T114322Z
UID:2194-1591984800-1592128800@mfmca.org
SUMMARY:PHONE/ONLINE DELIVERANCE SESSION:TOTAL DELIVERANCE
DESCRIPTION:We invite you to join our phone/online deliverance session.
URL:https://mfmca.org/event/phone-online-deliverance-sessiontotal-deliverance/
LOCATION:CA
CATEGORIES:Deliverance,Event
ATTACH;FMTTYPE=image/jpeg:https://mfmca.org/wp-content/uploads/2020/06/TD-2020.jpg
ORGANIZER;CN="MFM West Pacific Zone":MAILTO:mfmwpzhqusa@gmail.com
END:VEVENT
BEGIN:VEVENT
DTSTART;TZID=UTC:20200207T170000
DTEND;TZID=UTC:20200209T120000
DTSTAMP:20260421T023954
CREATED:20200127T190941Z
LAST-MODIFIED:20200127T190942Z
UID:2099-1581094800-1581249600@mfmca.org
SUMMARY:FEBRUARY WEEKEND DELIVERANCE
DESCRIPTION:FEBRUARY WEEKEND DELIVERANCE\nFRIDAY FEBRUARY 7\, 2020: 5.00PM – 6.30PM | 10.30PM – 2.00AM\nSATURDAY FEBRUARY 8\, 2020: 9AM – 12.30PM | 10PM – 2AM\nSUNDAY FEBRUARY 9\, 2020: 9AM
URL:https://mfmca.org/event/february-weekend-deliverance/
LOCATION:Mfm West Pacific Zonal HQ Church\, 27955 Mission Blvd\, Hayward\, CA\, 94544\, United States
CATEGORIES:Deliverance,Event
ATTACH;FMTTYPE=image/jpeg:https://mfmca.org/wp-content/uploads/2020/01/wknddeljan2020.jpg
ORGANIZER;CN="MFM West Pacific Zone":MAILTO:mfmwpzhqusa@gmail.com
END:VEVENT
BEGIN:VEVENT
DTSTART;TZID=UTC:20191108T170000
DTEND;TZID=UTC:20191110T090000
DTSTAMP:20260421T023954
CREATED:20191024T174834Z
LAST-MODIFIED:20191024T174835Z
UID:2057-1573232400-1573376400@mfmca.org
SUMMARY:NOVEMBER WEEKEND DELIVERANCE
DESCRIPTION:NOVEMBER WEEKEND DELIVERANCE\nFRIDAY NOVEMBER 8\, 2019: 5.00PM – 6.30PM | 10.30PM – 2.00AM\nSATURDAY NOVEMBER 9\, 2019: 9AM – 12.30PM | 10PM – 2AM\nSUNDAY NOVEMBER 10\, 2019: 9AM
URL:https://mfmca.org/event/november-weekend-deliverance/
LOCATION:Mfm West Pacific Zonal HQ Church\, 27955 Mission Blvd\, Hayward\, CA\, 94544\, United States
CATEGORIES:Deliverance,Event
ATTACH;FMTTYPE=image/jpeg:https://mfmca.org/wp-content/uploads/2019/10/arresting-the-powers.jpg
ORGANIZER;CN="MFM West Pacific Zone":MAILTO:mfmwpzhqusa@gmail.com
END:VEVENT
BEGIN:VEVENT
DTSTART;TZID=UTC:20190920T170000
DTEND;TZID=UTC:20190922T090000
DTSTAMP:20260421T023954
CREATED:20190830T003732Z
LAST-MODIFIED:20190830T004333Z
UID:2035-1568998800-1569142800@mfmca.org
SUMMARY:Thus Saith the Lord\, God\, Let My People Go
DESCRIPTION:FRIDAY SEPTEMBER 20TH\, 2019: 5PM – 6.30PM | 10.30PM – 2AM\nSATURDAY SEPTEMBER 21ST\, 2019: 9AM – 12.30PM | 10PM – 2AM\nSUNDAY SEPTEMBER 22ND\, 2019: 9AM
URL:https://mfmca.org/event/thus-saith-the-lord-god-let-my-people-go/
LOCATION:Mfm West Pacific Zonal HQ Church\, 27955 Mission Blvd\, Hayward\, CA\, 94544\, United States
CATEGORIES:Deliverance
ATTACH;FMTTYPE=image/jpeg:https://mfmca.org/wp-content/uploads/2019/08/letmypplgo.jpg
ORGANIZER;CN="MFM West Pacific Zone":MAILTO:mfmwpzhqusa@gmail.com
END:VEVENT
BEGIN:VEVENT
DTSTART;TZID=UTC:20190621T150000
DTEND;TZID=UTC:20190623T090000
DTSTAMP:20260421T023954
CREATED:20190617T170304Z
LAST-MODIFIED:20190617T170305Z
UID:2005-1561129200-1561280400@mfmca.org
SUMMARY:DELIVERANCE BY FIRE
DESCRIPTION:DELIVERANCE BY FIRE\nFRIDAY 21ST JUNE 2019: 3PM – 6PM | 11PM – 2AM\nSATURDAY 22ND JUNE\, 2019: 9AM – 12.30PM | 10PM – 2AM\nSUNDAY 23RD JUNE 2019: 9AM\n 
URL:https://mfmca.org/event/deliverance-by-fire/
LOCATION:Mfm West Pacific Zonal HQ Church\, 27955 Mission Blvd\, Hayward\, CA\, 94544\, United States
CATEGORIES:Deliverance
ATTACH;FMTTYPE=image/jpeg:https://mfmca.org/wp-content/uploads/2019/06/DELBYFIREJUNE.jpg
ORGANIZER;CN="MFM West Pacific Zone":MAILTO:mfmwpzhqusa@gmail.com
END:VEVENT
BEGIN:VEVENT
DTSTART;TZID=UTC:20190428T100000
DTEND;TZID=UTC:20190428T130000
DTSTAMP:20260421T023954
CREATED:20190426T184344Z
LAST-MODIFIED:20190427T180428Z
UID:1979-1556445600-1556456400@mfmca.org
SUMMARY:SEASON OF MARITAL CELEBRATION
DESCRIPTION:SEASON OF MARITAL CELEBRATION|Special Anointing Service for Singles\nSunday 28th April\, 2019| 10am \nFeaturing:\n– Salvation\n– Deliverance from the yokes of marital delay\n– Healing
URL:https://mfmca.org/event/season-of-marital-celebration/
LOCATION:Mfm West Pacific Zonal HQ Church\, 27955 Mission Blvd\, Hayward\, CA\, 94544\, United States
CATEGORIES:Deliverance,Marriage
ATTACH;FMTTYPE=image/jpeg:https://mfmca.org/wp-content/uploads/2019/04/SEASON-OF-MARITAL-CELEBRATION.jpg
ORGANIZER;CN="MFM West Pacific Zone":MAILTO:mfmwpzhqusa@gmail.com
END:VEVENT
BEGIN:VEVENT
DTSTART;TZID=UTC:20190419T150000
DTEND;TZID=UTC:20190421T090000
DTSTAMP:20260421T023954
CREATED:20190420T191444Z
LAST-MODIFIED:20190420T191444Z
UID:1974-1555686000-1555837200@mfmca.org
SUMMARY:WEEKEND DELIVERANCE- Psalm 23
DESCRIPTION:WEEKEND DELIVERANCE- Psalm 23\nFRIDAY\, APRIL 19TH 2019-3PM-6.30PM| 10.30PM-2AM \nSATURDAY\, APRIL 20TH 2019- 9AM-12.30PM| 10PM-2AM \nSUNDAY\, APRIL 21ST 2019 – 9AM
URL:https://mfmca.org/event/weekend-deliverance-psalm-23/
LOCATION:Mfm West Pacific Zonal HQ Church\, 27955 Mission Blvd\, Hayward\, CA\, 94544\, United States
CATEGORIES:Deliverance
ATTACH;FMTTYPE=image/jpeg:https://mfmca.org/wp-content/uploads/2019/04/WEEKEND-DEL.jpg
ORGANIZER;CN="MFM West Pacific Zone":MAILTO:mfmwpzhqusa@gmail.com
END:VEVENT
BEGIN:VEVENT
DTSTART;TZID=UTC:20190215T150000
DTEND;TZID=UTC:20190217T090000
DTSTAMP:20260421T023954
CREATED:20190128T184437Z
LAST-MODIFIED:20190128T184438Z
UID:1937-1550242800-1550394000@mfmca.org
SUMMARY:EARTHQUAKE OF DELIVERANCE
DESCRIPTION:EARTHQUAKE OF DELIVERANCE\n\nFRIDAY FEBRUARY 15TH\, 2019: 3PM-6.30PM | 10.30PM -2AM\nSATURDAY FEBRUARY 16TH\, 2019: 9AM-12.30PM | 10PM-2AM\nSUNDAY FEBRUARY 17TH\, 2019: 9AM
URL:https://mfmca.org/event/earthquake-of-deliverance/
LOCATION:Mfm West Pacific Zonal HQ Church\, 27955 Mission Blvd\, Hayward\, CA\, 94544\, United States
CATEGORIES:Deliverance,Event
ATTACH;FMTTYPE=image/jpeg:https://mfmca.org/wp-content/uploads/2019/01/EARTHQUAKE-OF-DELIVERANCE-1.jpg
ORGANIZER;CN="MFM West Pacific Zone":MAILTO:mfmwpzhqusa@gmail.com
END:VEVENT
BEGIN:VEVENT
DTSTART;TZID=UTC:20181214T150000
DTEND;TZID=UTC:20181216T090000
DTSTAMP:20260421T023954
CREATED:20181213T223449Z
LAST-MODIFIED:20181213T223449Z
UID:1901-1544799600-1544950800@mfmca.org
SUMMARY:TOTAL DELIVERANCE
DESCRIPTION:Divine Intervention\nFRIDAY 14TH DECEMBER\, 2018: 3PM – 6.30PM | 10.30PM – 2AM\nSATURDAY 15TH DECEMBER\, 2018: 9AM – 12.30PM | 10PM – 2AM\nSUNDAY 16TH DECEMBER 2018: 9AM\n\nCome fasting\nBring a bottle of oil
URL:https://mfmca.org/event/total-deliverance/
LOCATION:Mfm West Pacific Zonal HQ Church\, 27955 Mission Blvd\, Hayward\, CA\, 94544\, United States
CATEGORIES:Deliverance
ATTACH;FMTTYPE=image/jpeg:https://mfmca.org/wp-content/uploads/2018/12/TOTAL-DELIVERANCE.jpg
ORGANIZER;CN="MFM West Pacific Zone":MAILTO:mfmwpzhqusa@gmail.com
END:VEVENT
BEGIN:VEVENT
DTSTART;TZID=UTC:20181019T210000
DTEND;TZID=UTC:20181021T130000
DTSTAMP:20260421T023954
CREATED:20181004T153400Z
LAST-MODIFIED:20181006T121940Z
UID:1885-1539982800-1540126800@mfmca.org
SUMMARY:Great Deliverance by Fire
DESCRIPTION:Great Deliverance by Fire\nDeliverance from: \n\nJoblessness\nFailure\nDream attackers\nLate Marriage\nDemonic oppression\nPoverty\, etc.\n\nFRIDAY OCT. 19TH 2018 – 9PM-2AM\nSATURDAY OCT. 20TH 2018 – 9AM-12NOON | 2PM-6PM\nSUNDAY OCT. 21ST 2018 – 10AM-1PM
URL:https://mfmca.org/event/great-deliverance-by-fire/
LOCATION:Mfm West Pacific Zonal HQ Church\, 27955 Mission Blvd\, Hayward\, CA\, 94544\, United States
CATEGORIES:Deliverance
ATTACH;FMTTYPE=image/jpeg:https://mfmca.org/wp-content/uploads/2018/10/delbyfire1.jpg
ORGANIZER;CN="MFM West Pacific Zone":MAILTO:mfmwpzhqusa@gmail.com
END:VEVENT
END:VCALENDAR